BEGIN:VCALENDAR
VERSION:2.0
PRODID:-//Canopy CDD - ECPv6.15.20//NONSGML v1.0//EN
CALSCALE:GREGORIAN
METHOD:PUBLISH
X-ORIGINAL-URL:https://canopycdd.com
X-WR-CALDESC:Events for Canopy CDD
REFRESH-INTERVAL;VALUE=DURATION:PT1H
X-Robots-Tag:noindex
X-PUBLISHED-TTL:PT1H
BEGIN:VTIMEZONE
TZID:UTC
BEGIN:STANDARD
TZOFFSETFROM:+0000
TZOFFSETTO:+0000
TZNAME:UTC
DTSTART:20170101T000000
END:STANDARD
END:VTIMEZONE
BEGIN:VEVENT
DTSTART;TZID=UTC:20240411T140000
DTEND;TZID=UTC:20240411T140000
DTSTAMP:20260419T122406
CREATED:20181008T214011Z
LAST-MODIFIED:20240220T172427Z
UID:5552-1712844000-1712844000@canopycdd.com
SUMMARY:CDD Meeting
DESCRIPTION:
URL:https://canopycdd.com/index.php/event/cdd-meeting-8/
LOCATION:Canopy Community Center\, 2877 Crestline Road
END:VEVENT
BEGIN:VEVENT
DTSTART;TZID=UTC:20221115T110000
DTEND;TZID=UTC:20221115T110000
DTSTAMP:20260419T122406
CREATED:20181008T214011Z
LAST-MODIFIED:20221103T175910Z
UID:5550-1668510000-1668510000@canopycdd.com
SUMMARY:Landowners' Meeting
DESCRIPTION:Landowner Proxy \nOfficial Ballot
URL:https://canopycdd.com/index.php/event/cdd-meeting-6/
LOCATION:Canopy Community Center\, 2877 Crestline Road
END:VEVENT
BEGIN:VEVENT
DTSTART;TZID=UTC:20200107T110000
DTEND;TZID=UTC:20200107T110000
DTSTAMP:20260419T122406
CREATED:20181008T214011Z
LAST-MODIFIED:20190919T134705Z
UID:5553-1578394800-1578394800@canopycdd.com
SUMMARY:CDD Meeting
DESCRIPTION:
URL:https://canopycdd.com/index.php/event/cdd-meeting-9/
END:VEVENT
BEGIN:VEVENT
DTSTART;TZID=UTC:20191203T110000
DTEND;TZID=UTC:20191203T110000
DTSTAMP:20260419T122406
CREATED:20181008T214011Z
LAST-MODIFIED:20190919T134629Z
UID:5554-1575370800-1575370800@canopycdd.com
SUMMARY:CDD Meeting
DESCRIPTION:
URL:https://canopycdd.com/index.php/event/cdd-meeting-10/
END:VEVENT
BEGIN:VEVENT
DTSTART;TZID=UTC:20191112T110000
DTEND;TZID=UTC:20191112T110000
DTSTAMP:20260419T122406
CREATED:20181008T214012Z
LAST-MODIFIED:20191024T155037Z
UID:5555-1573556400-1573556400@canopycdd.com
SUMMARY:CDD Meeting
DESCRIPTION:
URL:https://canopycdd.com/index.php/event/cdd-meeting-11/
END:VEVENT
BEGIN:VEVENT
DTSTART;TZID=UTC:20191001T110000
DTEND;TZID=UTC:20191001T110000
DTSTAMP:20260419T122406
CREATED:20181008T214012Z
LAST-MODIFIED:20190919T134442Z
UID:5556-1569927600-1569927600@canopycdd.com
SUMMARY:CDD Meeting
DESCRIPTION:
URL:https://canopycdd.com/index.php/event/cdd-meeting-12/
END:VEVENT
BEGIN:VEVENT
DTSTART;TZID=UTC:20190205T110000
DTEND;TZID=UTC:20190205T110000
DTSTAMP:20260419T122406
CREATED:20181008T214006Z
LAST-MODIFIED:20181008T214006Z
UID:5549-1549364400-1549364400@canopycdd.com
SUMMARY:CDD Meeting
DESCRIPTION:
URL:https://canopycdd.com/index.php/event/cdd-meeting-5/
END:VEVENT
BEGIN:VEVENT
DTSTART;TZID=UTC:20190122T110000
DTEND;TZID=UTC:20190122T130000
DTSTAMP:20260419T122406
CREATED:20181008T214005Z
LAST-MODIFIED:20190109T172358Z
UID:5548-1548154800-1548162000@canopycdd.com
SUMMARY:CDD Meeting
DESCRIPTION:
URL:https://canopycdd.com/index.php/event/cdd-meeting-4/
END:VEVENT
BEGIN:VEVENT
DTSTART;TZID=UTC:20181204T110000
DTEND;TZID=UTC:20181204T110000
DTSTAMP:20260419T122406
CREATED:20181008T214005Z
LAST-MODIFIED:20181008T214005Z
UID:5547-1543921200-1543921200@canopycdd.com
SUMMARY:CDD Meeting
DESCRIPTION:
URL:https://canopycdd.com/index.php/event/cdd-meeting-3/
END:VEVENT
BEGIN:VEVENT
DTSTART;TZID=UTC:20181106T110000
DTEND;TZID=UTC:20181106T110000
DTSTAMP:20260419T122406
CREATED:20181008T214005Z
LAST-MODIFIED:20181008T214335Z
UID:5546-1541502000-1541502000@canopycdd.com
SUMMARY:CDD Meeting
DESCRIPTION:
URL:https://canopycdd.com/index.php/event/cdd-meeting-2/
LOCATION:Meeting Location\, Dorothy B. Oven Park\, 3205 Thomasville Road\, Tallahassee\, FL\, 32308\, United States
END:VEVENT
BEGIN:VEVENT
DTSTART;TZID=UTC:20181002T110000
DTEND;TZID=UTC:20181002T110000
DTSTAMP:20260419T122406
CREATED:20181008T214005Z
LAST-MODIFIED:20181008T214005Z
UID:5545-1538478000-1538478000@canopycdd.com
SUMMARY:CDD Meeting
DESCRIPTION:
URL:https://canopycdd.com/index.php/event/cdd-meeting/
END:VEVENT
END:VCALENDAR